BEGIN:VCALENDAR
VERSION:2.0
PRODID:-//wp-events-plugin.com//7.2.3.1//EN
TZID:Europe/Berlin
X-WR-TIMEZONE:Europe/Berlin
BEGIN:VEVENT
UID:23@termine.grafenberg.de
DTSTART;TZID=Europe/Berlin:20250125T200000
DTEND;TZID=Europe/Berlin:20250125T230000
DTSTAMP:20241126T204930Z
URL:https://termine.grafenberg.de/events/die-schrillen-fehlaperlen/
SUMMARY:Die Schrillen Fehlaperlen
DESCRIPTION:20. Kulturwochenende / Musikverein Grafenberg
CATEGORIES:Kelter Vereine
LOCATION:#_LOCATIONNAME\, #_LOCATIONFULLLINE\, #_LOCATIONCOUNTRY
X-APPLE-STRUCTURED-LOCATION;VALUE=URI;X-ADDRESS=#_LOCATIONFULLLINE\, #_LOCA
 TIONCOUNTRY;X-APPLE-RADIUS=100;X-TITLE=#_LOCATIONNAME:geo:0,0
END:VEVENT
BEGIN:VTIMEZONE
TZID:Europe/Berlin
X-LIC-LOCATION:Europe/Berlin
BEGIN:STANDARD
DTSTART:20241027T020000
TZOFFSETFROM:+0200
TZOFFSETTO:+0100
TZNAME:CET
END:STANDARD
END:VTIMEZONE
END:VCALENDAR