BEGIN:VCALENDAR
VERSION:2.0
PRODID:-//wp-events-plugin.com//7.2.3.1//EN
TZID:Europe/Berlin
X-WR-TIMEZONE:Europe/Berlin
BEGIN:VEVENT
UID:1974@termine.grafenberg.de
DTSTART;TZID=Europe/Berlin:20250915T193000
DTEND;TZID=Europe/Berlin:20251222T203000
DTSTAMP:20250116T100843Z
URL:https://termine.grafenberg.de/event-recurring/private-veranstaltung-6/
SUMMARY:Private Veranstaltung
DESCRIPTION:Hermann-Bader-Raum
CATEGORIES:RBH Gesperrt,Rienzbühlhalle
LOCATION:#_LOCATIONNAME\, #_LOCATIONFULLLINE\, #_LOCATIONCOUNTRY
X-APPLE-STRUCTURED-LOCATION;VALUE=URI;X-ADDRESS=#_LOCATIONFULLLINE\, #_LOCA
 TIONCOUNTRY;X-APPLE-RADIUS=100;X-TITLE=#_LOCATIONNAME:geo:0,0
END:VEVENT
BEGIN:VTIMEZONE
TZID:Europe/Berlin
X-LIC-LOCATION:Europe/Berlin
BEGIN:DAYLIGHT
DTSTART:20250330T030000
TZOFFSETFROM:+0100
TZOFFSETTO:+0200
TZNAME:CEST
END:DAYLIGHT
BEGIN:STANDARD
DTSTART:20251026T020000
TZOFFSETFROM:+0200
TZOFFSETTO:+0100
TZNAME:CET
END:STANDARD
END:VTIMEZONE
END:VCALENDAR