BEGIN:VCALENDAR
VERSION:2.0
PRODID:-//wp-events-plugin.com//7.2.3.1//EN
TZID:Europe/Berlin
X-WR-TIMEZONE:Europe/Berlin
BEGIN:VEVENT
UID:78@termine.grafenberg.de
DTSTART;TZID=Europe/Berlin:20250110T120000
DTEND;TZID=Europe/Berlin:20250110T130000
DTSTAMP:20250109T094923Z
URL:https://termine.grafenberg.de/events/test/
SUMMARY:Test
DESCRIPTION:Dies ist ein Test
ATTACH;FMTTYPE=image/jpeg:https://termine.grafenberg.de/wp-content/uploads
 /2025/01/Logo-Grafenberg.png
CATEGORIES:Kelter Gemeinde
LOCATION:#_LOCATIONNAME\, #_LOCATIONFULLLINE\, #_LOCATIONCOUNTRY
X-APPLE-STRUCTURED-LOCATION;VALUE=URI;X-ADDRESS=#_LOCATIONFULLLINE\, #_LOCA
 TIONCOUNTRY;X-APPLE-RADIUS=100;X-TITLE=#_LOCATIONNAME:geo:0,0
END:VEVENT
BEGIN:VTIMEZONE
TZID:Europe/Berlin
X-LIC-LOCATION:Europe/Berlin
BEGIN:STANDARD
DTSTART:20241027T020000
TZOFFSETFROM:+0200
TZOFFSETTO:+0100
TZNAME:CET
END:STANDARD
END:VTIMEZONE
END:VCALENDAR